BEGIN:VCALENDAR
VERSION:2.0
PRODID:icalendar-ruby
CALSCALE:GREGORIAN
BEGIN:VEVENT
DTSTAMP:20260420T145731Z
UID:c9e1fd1d-d5da-416c-bb2f-1e7d41956120
DTSTART:20261007T000000
DTEND:20261007T030000
DESCRIPTION:The Devil Wears Prada live in concert at Backstage
LOCATION:Backstage\, München\, \, Germany
ORGANIZER:mailto:events@ampwrecked.com
SUMMARY:The Devil Wears Prada - The Devil Wears Prada at Backstage
END:VEVENT
END:VCALENDAR
