BEGIN:VCALENDAR
VERSION:2.0
PRODID:icalendar-ruby
CALSCALE:GREGORIAN
BEGIN:VEVENT
DTSTAMP:20260420T145859Z
UID:8eb93c26-c50b-4f1b-b85f-a4a60f741982
DTSTART:20261003T000000
DTEND:20261003T030000
DESCRIPTION:The Devil Wears Prada live in concert at Aftershock 2026
LOCATION:Aftershock 2026\, Sacramento\, CA\, USA
ORGANIZER:mailto:events@ampwrecked.com
SUMMARY:The Devil Wears Prada - The Devil Wears Prada at Aftershock 2026
END:VEVENT
END:VCALENDAR
