BEGIN:VCALENDAR
VERSION:2.0
PRODID:icalendar-ruby
CALSCALE:GREGORIAN
BEGIN:VEVENT
DTSTAMP:20260420T130621Z
UID:c776941e-b2f2-4f1f-82e1-58c4fa2b57ec
DTSTART:20260715T000000
DTEND:20260715T030000
DESCRIPTION:Caskets live in concert at Roxian Theatre Presented by Citizens
LOCATION:Roxian Theatre Presented by Citizens\, McKees Rocks\, PA\, USA
ORGANIZER:mailto:events@ampwrecked.com
SUMMARY:Caskets - Caskets at Roxian Theatre Presented by Citizens
END:VEVENT
END:VCALENDAR
