BEGIN:VCALENDAR
VERSION:2.0
PRODID:icalendar-ruby
CALSCALE:GREGORIAN
BEGIN:VEVENT
DTSTAMP:20260420T114254Z
UID:e3eaa37d-4edd-4ac6-aec0-a6a179a21121
DTSTART:20260714T000000
DTEND:20260714T030000
DESCRIPTION:Caskets live in concert at Anthology
LOCATION:Anthology\, Rochester\, NY\, USA
ORGANIZER:mailto:events@ampwrecked.com
SUMMARY:Caskets - Caskets at Anthology
END:VEVENT
END:VCALENDAR
