BEGIN:VCALENDAR
VERSION:2.0
PRODID:icalendar-ruby
CALSCALE:GREGORIAN
BEGIN:VEVENT
DTSTAMP:20260420T113701Z
UID:873288e4-0e48-4c30-a20c-5269f3a1f6b9
DTSTART:20260711T000000
DTEND:20260711T030000
DESCRIPTION:Caskets live in concert at Empire Live
LOCATION:Empire Live\, Albany\, NY\, USA
ORGANIZER:mailto:events@ampwrecked.com
SUMMARY:Caskets - Caskets at Empire Live
END:VEVENT
END:VCALENDAR
