BEGIN:VCALENDAR
VERSION:2.0
PRODID:icalendar-ruby
CALSCALE:GREGORIAN
BEGIN:VEVENT
DTSTAMP:20260420T113625Z
UID:5467ba73-d7a4-439f-826f-6c1cb1029ee9
DTSTART:20260702T000000
DTEND:20260702T030000
DESCRIPTION:Caskets live in concert at Resurrection Fest 2026
LOCATION:Resurrection Fest 2026\, Viveiro\, \, Spain
ORGANIZER:mailto:events@ampwrecked.com
SUMMARY:Caskets - Caskets at Resurrection Fest 2026
END:VEVENT
END:VCALENDAR
