BEGIN:VCALENDAR
VERSION:2.0
PRODID:icalendar-ruby
CALSCALE:GREGORIAN
BEGIN:VEVENT
DTSTAMP:20260421T084019Z
UID:cc93c268-201a-49f5-b429-e6dc53ff1600
DTSTART:20260816T000000
DTEND:20260816T030000
DESCRIPTION:Ov Sulfur live in concert at Marquee Theatre
LOCATION:Marquee Theatre\, Tempe\, AZ\, USA
ORGANIZER:mailto:events@ampwrecked.com
SUMMARY:Ov Sulfur - Ov Sulfur at Marquee Theatre
END:VEVENT
END:VCALENDAR
