BEGIN:VCALENDAR
VERSION:2.0
PRODID:icalendar-ruby
CALSCALE:GREGORIAN
BEGIN:VEVENT
DTSTAMP:20260421T083351Z
UID:eb30da0b-2624-4288-970c-bbe96c7c9c6a
DTSTART:20260814T000000
DTEND:20260814T030000
DESCRIPTION:Ov Sulfur live in concert at The Observatory North Park
LOCATION:The Observatory North Park\, San Diego\, CA\, USA
ORGANIZER:mailto:events@ampwrecked.com
SUMMARY:Ov Sulfur - Ov Sulfur at The Observatory North Park
END:VEVENT
END:VCALENDAR
