BEGIN:VCALENDAR
VERSION:2.0
PRODID:icalendar-ruby
CALSCALE:GREGORIAN
BEGIN:VEVENT
DTSTAMP:20260420T150114Z
UID:b8d5aca0-6ef1-4e27-99d3-4bbd67c4b865
DTSTART:20260425T000000
DTEND:20260425T030000
DESCRIPTION:Glixen live in concert at The Loving Touch
LOCATION:The Loving Touch\, Ferndale\, MI\, USA
ORGANIZER:mailto:events@ampwrecked.com
SUMMARY:Glixen - Glixen at The Loving Touch
END:VEVENT
END:VCALENDAR
