BEGIN:VCALENDAR
VERSION:2.0
PRODID:icalendar-ruby
CALSCALE:GREGORIAN
BEGIN:VEVENT
DTSTAMP:20260422T120442Z
UID:af80fc69-b68e-4aea-87af-fab8a7fcc011
DTSTART:20260424T000000
DTEND:20260424T030000
DESCRIPTION:Glixen live in concert at Hard Luck Bar
LOCATION:Hard Luck Bar\, Toronto\, ON\, USA
ORGANIZER:mailto:events@ampwrecked.com
SUMMARY:Glixen - Glixen at Hard Luck Bar
END:VEVENT
END:VCALENDAR
