BEGIN:VCALENDAR
VERSION:2.0
PRODID:icalendar-ruby
CALSCALE:GREGORIAN
BEGIN:VEVENT
DTSTAMP:20260420T005733Z
UID:49d08099-b236-4d33-8567-9a54b584316a
DTSTART:20260423T000000
DTEND:20260423T030000
DESCRIPTION:Glixen live in concert at Théâtre Fairmount
LOCATION:Théâtre Fairmount\, Montréal\, QC\, USA
ORGANIZER:mailto:events@ampwrecked.com
SUMMARY:Glixen - Glixen at Théâtre Fairmount
END:VEVENT
END:VCALENDAR
