BEGIN:VCALENDAR
VERSION:2.0
PRODID:icalendar-ruby
CALSCALE:GREGORIAN
BEGIN:VEVENT
DTSTAMP:20260419T231047Z
UID:7106c821-9eb8-402f-9ae1-449a8ec1a995
DTSTART:20260422T000000
DTEND:20260422T030000
DESCRIPTION:Glixen live in concert at The Sinclair
LOCATION:The Sinclair\, Cambridge\, MA\, USA
ORGANIZER:mailto:events@ampwrecked.com
SUMMARY:Glixen - Glixen at The Sinclair
END:VEVENT
END:VCALENDAR
