BEGIN:VCALENDAR
VERSION:2.0
PRODID:icalendar-ruby
CALSCALE:GREGORIAN
BEGIN:VEVENT
DTSTAMP:20260419T231327Z
UID:ce8b24d4-db51-453f-8c7a-8fdcdaf3b671
DTSTART:20260421T000000
DTEND:20260421T030000
DESCRIPTION:Glixen live in concert at Elsewhere
LOCATION:Elsewhere\, Brooklyn\, NY\, USA
ORGANIZER:mailto:events@ampwrecked.com
SUMMARY:Glixen - Glixen at Elsewhere
END:VEVENT
END:VCALENDAR
