BEGIN:VCALENDAR
VERSION:2.0
PRODID:icalendar-ruby
CALSCALE:GREGORIAN
BEGIN:VEVENT
DTSTAMP:20260419T231845Z
UID:29cda7ea-133d-4d20-aa39-cb2a66d44b56
DTSTART:20260419T000000
DTEND:20260419T030000
DESCRIPTION:Glixen live in concert at First Unitarian Church
LOCATION:First Unitarian Church\, Philadelphia\, PA\, USA
ORGANIZER:mailto:events@ampwrecked.com
SUMMARY:Glixen - Glixen at First Unitarian Church
END:VEVENT
END:VCALENDAR
