BEGIN:VCALENDAR
VERSION:2.0
PRODID:icalendar-ruby
CALSCALE:GREGORIAN
BEGIN:VEVENT
DTSTAMP:20260420T150400Z
UID:c76c70c4-836c-45a4-a46c-504771ab7d18
DTSTART:20260426T000000
DTEND:20260426T030000
DESCRIPTION:Rotting live in concert at The Pageant
LOCATION:The Pageant\, St Louis\, MO\, USA
ORGANIZER:mailto:events@ampwrecked.com
SUMMARY:Rotting - Rotting at The Pageant
END:VEVENT
END:VCALENDAR
