BEGIN:VCALENDAR
VERSION:2.0
PRODID:icalendar-ruby
CALSCALE:GREGORIAN
BEGIN:VEVENT
DTSTAMP:20260420T145942Z
UID:aeaed7dc-8027-4615-8e48-6bc2b03fe1da
DTSTART:20260425T000000
DTEND:20260425T030000
DESCRIPTION:Rotting live in concert at The Vic Theatre
LOCATION:The Vic Theatre\, Chicago\, IL\, USA
ORGANIZER:mailto:events@ampwrecked.com
SUMMARY:Rotting - Rotting at The Vic Theatre
END:VEVENT
END:VCALENDAR
