BEGIN:VCALENDAR
VERSION:2.0
PRODID:icalendar-ruby
CALSCALE:GREGORIAN
BEGIN:VEVENT
DTSTAMP:20260420T163024Z
UID:5647787d-f6cc-4a72-9f97-636ef2ac6667
DTSTART:20260423T000000
DTEND:20260423T030000
DESCRIPTION:Rotting live in concert at Warehouse On Broadway
LOCATION:Warehouse On Broadway\, Kansas City\, MO\, USA
ORGANIZER:mailto:events@ampwrecked.com
SUMMARY:Rotting - Rotting at Warehouse On Broadway
END:VEVENT
END:VCALENDAR
