BEGIN:VCALENDAR
VERSION:2.0
PRODID:icalendar-ruby
CALSCALE:GREGORIAN
BEGIN:VEVENT
DTSTAMP:20260420T140300Z
UID:f44428e5-772c-4208-990c-e3ddb07fc6e7
DTSTART:20260506T000000
DTEND:20260506T030000
DESCRIPTION:Knoll live in concert at Reverb
LOCATION:Reverb\, Reading\, PA\, USA
ORGANIZER:mailto:events@ampwrecked.com
SUMMARY:Knoll - Knoll at Reverb
END:VEVENT
END:VCALENDAR
