BEGIN:VCALENDAR
VERSION:2.0
PRODID:icalendar-ruby
CALSCALE:GREGORIAN
BEGIN:VEVENT
DTSTAMP:20260420T140318Z
UID:8f6bf0b6-6527-44e5-846d-ca8f7881683a
DTSTART:20260502T000000
DTEND:20260502T030000
DESCRIPTION:Knoll live in concert at Dallas Night Club
LOCATION:Dallas Night Club\, Kitchener\, ON\, USA
ORGANIZER:mailto:events@ampwrecked.com
SUMMARY:Knoll - Knoll at Dallas Night Club
END:VEVENT
END:VCALENDAR
