BEGIN:VCALENDAR
VERSION:2.0
PRODID:icalendar-ruby
CALSCALE:GREGORIAN
BEGIN:VEVENT
DTSTAMP:20260420T140702Z
UID:67d2641d-12d8-4299-8041-ccf813b03a15
DTSTART:20260501T000000
DTEND:20260501T030000
DESCRIPTION:Knoll live in concert at The Forge
LOCATION:The Forge\, Joliet\, IL\, USA
ORGANIZER:mailto:events@ampwrecked.com
SUMMARY:Knoll - Knoll at The Forge
END:VEVENT
END:VCALENDAR
