BEGIN:VCALENDAR
VERSION:2.0
PRODID:icalendar-ruby
CALSCALE:GREGORIAN
BEGIN:VEVENT
DTSTAMP:20260420T122711Z
UID:e82eceea-28c6-4aab-9b41-b22a95c9a8af
DTSTART:20260423T000000
DTEND:20260423T030000
DESCRIPTION:Knoll live in concert at Pilot Light
LOCATION:Pilot Light\, Knoxville\, TN\, USA
ORGANIZER:mailto:events@ampwrecked.com
SUMMARY:Knoll - Knoll at Pilot Light
END:VEVENT
END:VCALENDAR
