BEGIN:VCALENDAR
VERSION:2.0
PRODID:icalendar-ruby
CALSCALE:GREGORIAN
BEGIN:VEVENT
DTSTAMP:20260420T122639Z
UID:4fc16dd3-6a79-4636-8732-5d0044196f6c
DTSTART:20260422T000000
DTEND:20260422T030000
DESCRIPTION:Knoll live in concert at Kings
LOCATION:Kings\, Raleigh\, NC\, USA
ORGANIZER:mailto:events@ampwrecked.com
SUMMARY:Knoll - Knoll at Kings
END:VEVENT
END:VCALENDAR
