BEGIN:VCALENDAR
VERSION:2.0
PRODID:icalendar-ruby
CALSCALE:GREGORIAN
BEGIN:VEVENT
DTSTAMP:20260420T122712Z
UID:08342bc0-6a8a-40bc-b00a-71c61e56c3f6
DTSTART:20260420T000000
DTEND:20260420T030000
DESCRIPTION:Knoll live in concert at Underground Arts
LOCATION:Underground Arts\, Philadelphia\, PA\, USA
ORGANIZER:mailto:events@ampwrecked.com
SUMMARY:Knoll - Knoll at Underground Arts
END:VEVENT
END:VCALENDAR
