BEGIN:VCALENDAR
VERSION:2.0
PRODID:icalendar-ruby
CALSCALE:GREGORIAN
BEGIN:VEVENT
DTSTAMP:20260420T113815Z
UID:bcea2679-af62-49f4-8517-75c76563800b
DTSTART:20260619T000000
DTEND:20260619T030000
DESCRIPTION:Colour live in concert at Hard Rock Cafe
LOCATION:Hard Rock Cafe\, New York\, NY\, USA
ORGANIZER:mailto:events@ampwrecked.com
SUMMARY:Colour - Colour at Hard Rock Cafe
END:VEVENT
END:VCALENDAR
