BEGIN:VCALENDAR
VERSION:2.0
PRODID:icalendar-ruby
CALSCALE:GREGORIAN
BEGIN:VEVENT
DTSTAMP:20260420T150313Z
UID:4e08a090-b458-47f9-836e-c5faba6dab8f
DTSTART:20260427T000000
DTEND:20260427T030000
DESCRIPTION:AFI live in concert at The Historic El Rey Theater
LOCATION:The Historic El Rey Theater\, Albuquerque\, NM\, USA
ORGANIZER:mailto:events@ampwrecked.com
SUMMARY:AFI - AFI at The Historic El Rey Theater
END:VEVENT
END:VCALENDAR
