BEGIN:VCALENDAR
VERSION:2.0
PRODID:icalendar-ruby
CALSCALE:GREGORIAN
BEGIN:VEVENT
DTSTAMP:20260420T145859Z
UID:db11158f-594b-4702-aec8-5823d9b0bb2d
DTSTART:20260425T000000
DTEND:20260425T030000
DESCRIPTION:AFI live in concert at Sick New World Las Vegas 2026
LOCATION:Sick New World Las Vegas 2026\, Las Vegas\, NV\, USA
ORGANIZER:mailto:events@ampwrecked.com
SUMMARY:AFI - AFI at Sick New World Las Vegas 2026
END:VEVENT
END:VCALENDAR
