BEGIN:VCALENDAR
VERSION:2.0
PRODID:icalendar-ruby
CALSCALE:GREGORIAN
BEGIN:VEVENT
DTSTAMP:20260420T150509Z
UID:b47ef741-00bf-4d9a-9283-246c753381e1
DTSTART:20260426T000000
DTEND:20260426T030000
DESCRIPTION:Microwave live in concert at The Masquerade
LOCATION:The Masquerade\, Atlanta\, GA\, USA
ORGANIZER:mailto:events@ampwrecked.com
SUMMARY:Microwave - Microwave at The Masquerade
END:VEVENT
END:VCALENDAR
