BEGIN:VCALENDAR
VERSION:2.0
PRODID:icalendar-ruby
CALSCALE:GREGORIAN
BEGIN:VEVENT
DTSTAMP:20260420T150739Z
UID:88853d3c-9030-4555-9ece-6db346d22053
DTSTART:20260425T000000
DTEND:20260425T030000
DESCRIPTION:Microwave live in concert at Brooklyn Bowl Nashville
LOCATION:Brooklyn Bowl Nashville\, Nashville\, TN\, USA
ORGANIZER:mailto:events@ampwrecked.com
SUMMARY:Microwave - Microwave at Brooklyn Bowl Nashville
END:VEVENT
END:VCALENDAR
