BEGIN:VCALENDAR
VERSION:2.0
PRODID:icalendar-ruby
CALSCALE:GREGORIAN
BEGIN:VEVENT
DTSTAMP:20260420T162609Z
UID:fbf0a32f-05e9-430c-a04c-61da0eb430e8
DTSTART:20260424T000000
DTEND:20260424T030000
DESCRIPTION:Microwave live in concert at The Underground
LOCATION:The Underground\, Charlotte\, NC\, USA
ORGANIZER:mailto:events@ampwrecked.com
SUMMARY:Microwave - Microwave at The Underground
END:VEVENT
END:VCALENDAR
