BEGIN:VCALENDAR
VERSION:2.0
PRODID:icalendar-ruby
CALSCALE:GREGORIAN
BEGIN:VEVENT
DTSTAMP:20260420T163111Z
UID:a23f0256-1ff4-4720-ada7-823faf13a132
DTSTART:20260422T000000
DTEND:20260422T030000
DESCRIPTION:Microwave live in concert at The National
LOCATION:The National\, Richmond\, VA\, USA
ORGANIZER:mailto:events@ampwrecked.com
SUMMARY:Microwave - Microwave at The National
END:VEVENT
END:VCALENDAR
