BEGIN:VCALENDAR
VERSION:2.0
PRODID:icalendar-ruby
CALSCALE:GREGORIAN
BEGIN:VEVENT
DTSTAMP:20260420T163111Z
UID:a81409b5-220d-43e8-9a2a-74a432c93ef3
DTSTART:20260421T000000
DTEND:20260421T030000
DESCRIPTION:Microwave live in concert at Baltimore Soundstage
LOCATION:Baltimore Soundstage\, Baltimore\, MD\, USA
ORGANIZER:mailto:events@ampwrecked.com
SUMMARY:Microwave - Microwave at Baltimore Soundstage
END:VEVENT
END:VCALENDAR
