BEGIN:VCALENDAR
VERSION:2.0
PRODID:icalendar-ruby
CALSCALE:GREGORIAN
BEGIN:VEVENT
DTSTAMP:20260421T114649Z
UID:4c65c077-7efb-4b7e-87e7-f794e112adfc
DTSTART:20260424T000000
DTEND:20260424T030000
DESCRIPTION:Full Of Hell live in concert at SO36
LOCATION:SO36\, Berlin\, \, Germany
ORGANIZER:mailto:events@ampwrecked.com
SUMMARY:Full Of Hell - Full Of Hell at SO36
END:VEVENT
END:VCALENDAR
