BEGIN:VCALENDAR
VERSION:2.0
PRODID:icalendar-ruby
CALSCALE:GREGORIAN
BEGIN:VEVENT
DTSTAMP:20260421T114336Z
UID:d7909f02-fb87-490e-8902-b40b8e7182bc
DTSTART:20260423T000000
DTEND:20260423T030000
DESCRIPTION:Full Of Hell live in concert at Hype Park
LOCATION:Hype Park\, Kraków\, \, Poland
ORGANIZER:mailto:events@ampwrecked.com
SUMMARY:Full Of Hell - Full Of Hell at Hype Park
END:VEVENT
END:VCALENDAR
