BEGIN:VCALENDAR
VERSION:2.0
PRODID:icalendar-ruby
CALSCALE:GREGORIAN
BEGIN:VEVENT
DTSTAMP:20260421T095818Z
UID:9b9902df-d713-45f5-947f-178671d07dd1
DTSTART:20260422T000000
DTEND:20260422T030000
DESCRIPTION:Full Of Hell live in concert at Bike Jesus
LOCATION:Bike Jesus\, Praha 7\, \, Czechia
ORGANIZER:mailto:events@ampwrecked.com
SUMMARY:Full Of Hell - Full Of Hell at Bike Jesus
END:VEVENT
END:VCALENDAR
