BEGIN:VCALENDAR
VERSION:2.0
PRODID:icalendar-ruby
CALSCALE:GREGORIAN
BEGIN:VEVENT
DTSTAMP:20260421T084142Z
UID:f0984d04-9849-4b4d-a183-f406292bbf18
DTSTART:20260419T000000
DTEND:20260419T030000
DESCRIPTION:Full Of Hell live in concert at Sedel
LOCATION:Sedel\, Emmenbrücke\, \, Switzerland
ORGANIZER:mailto:events@ampwrecked.com
SUMMARY:Full Of Hell - Full Of Hell at Sedel
END:VEVENT
END:VCALENDAR
