BEGIN:VCALENDAR
VERSION:2.0
PRODID:icalendar-ruby
CALSCALE:GREGORIAN
BEGIN:VEVENT
DTSTAMP:20260420T150028Z
UID:ec69ac31-4d9f-44af-9325-cfd480d663f6
DTSTART:20260429T000000
DTEND:20260429T030000
DESCRIPTION:Hot Mulligan live in concert at The Astor Theatre
LOCATION:The Astor Theatre\, Perth\, \, Australia
ORGANIZER:mailto:events@ampwrecked.com
SUMMARY:Hot Mulligan - Hot Mulligan at The Astor Theatre
END:VEVENT
END:VCALENDAR
