BEGIN:VCALENDAR
VERSION:2.0
PRODID:icalendar-ruby
CALSCALE:GREGORIAN
BEGIN:VEVENT
DTSTAMP:20260420T150849Z
UID:10766017-afea-4fd5-a8a7-278bf761532e
DTSTART:20260425T000000
DTEND:20260425T030000
DESCRIPTION:Familiar Dark live in concert at Scandinavian Heavy Arts Tour
LOCATION:Scandinavian Heavy Arts Tour\, Detroit\, MI\, USA
ORGANIZER:mailto:events@ampwrecked.com
SUMMARY:Familiar Dark - Familiar Dark at Scandinavian Heavy Arts Tour
END:VEVENT
END:VCALENDAR
