BEGIN:VCALENDAR
VERSION:2.0
PRODID:icalendar-ruby
CALSCALE:GREGORIAN
BEGIN:VEVENT
DTSTAMP:20260421T084058Z
UID:846f2164-8516-496e-a7b3-c3af5a885c23
DTSTART:20260422T000000
DTEND:20260422T030000
DESCRIPTION:Familiar Dark live in concert at Scandinavian Heavy Arts Tour
LOCATION:Scandinavian Heavy Arts Tour\, Montréal\, QC\, USA
ORGANIZER:mailto:events@ampwrecked.com
SUMMARY:Familiar Dark - Familiar Dark at Scandinavian Heavy Arts Tour
END:VEVENT
END:VCALENDAR
