BEGIN:VCALENDAR
VERSION:2.0
PRODID:icalendar-ruby
CALSCALE:GREGORIAN
BEGIN:VEVENT
DTSTAMP:20260419T234541Z
UID:caabe4e7-b1f4-4643-a134-e141b18d5207
DTSTART:20260725T000000
DTEND:20260725T030000
DESCRIPTION:Less Than Jake live in concert at THE BIG THROWDOWN
LOCATION:THE BIG THROWDOWN\, Maryland Heights\, MO\, USA
ORGANIZER:mailto:events@ampwrecked.com
SUMMARY:Less Than Jake - Less Than Jake at THE BIG THROWDOWN
END:VEVENT
END:VCALENDAR
