BEGIN:VCALENDAR
VERSION:2.0
PRODID:icalendar-ruby
CALSCALE:GREGORIAN
BEGIN:VEVENT
DTSTAMP:20260419T220454Z
UID:d7feb78f-924d-4f8e-aa5f-432b9ecf6b6c
DTSTART:20260627T000000
DTEND:20260627T030000
DESCRIPTION:Less Than Jake live in concert at Bouncing Souls - Stoked For T
 he Summer
LOCATION:Bouncing Souls - Stoked For The Summer\, Asbury Park\, NJ\, USA
ORGANIZER:mailto:events@ampwrecked.com
SUMMARY:Less Than Jake - Less Than Jake at Bouncing Souls - Stoked For The 
 Summer
END:VEVENT
END:VCALENDAR
