BEGIN:VCALENDAR
VERSION:2.0
PRODID:icalendar-ruby
CALSCALE:GREGORIAN
BEGIN:VEVENT
DTSTAMP:20260420T150519Z
UID:724ddbe3-baad-4bef-9fdc-78f10e0ae3d1
DTSTART:20260426T000000
DTEND:20260426T030000
DESCRIPTION:Adjust the Sails live in concert at Groundworks
LOCATION:Groundworks\, Tucson\, AZ\, USA
ORGANIZER:mailto:events@ampwrecked.com
SUMMARY:Adjust the Sails - Adjust the Sails at Groundworks
END:VEVENT
END:VCALENDAR
