BEGIN:VCALENDAR
VERSION:2.0
PRODID:icalendar-ruby
CALSCALE:GREGORIAN
BEGIN:VEVENT
DTSTAMP:20260420T150407Z
UID:03a9311c-0e0a-4698-b818-3c4d9ab81108
DTSTART:20260425T000000
DTEND:20260425T030000
DESCRIPTION:Adjust the Sails live in concert at The Haven Pomona
LOCATION:The Haven Pomona\, Pomona\, CA\, USA
ORGANIZER:mailto:events@ampwrecked.com
SUMMARY:Adjust the Sails - Adjust the Sails at The Haven Pomona
END:VEVENT
END:VCALENDAR
