BEGIN:VCALENDAR
VERSION:2.0
PRODID:icalendar-ruby
CALSCALE:GREGORIAN
BEGIN:VEVENT
DTSTAMP:20260420T162857Z
UID:61aa419a-a8cc-4e19-b590-e45778f7444e
DTSTART:20260424T000000
DTEND:20260424T030000
DESCRIPTION:Adjust the Sails live in concert at 924 Gilman
LOCATION:924 Gilman\, Berkeley\, CA\, USA
ORGANIZER:mailto:events@ampwrecked.com
SUMMARY:Adjust the Sails - Adjust the Sails at 924 Gilman
END:VEVENT
END:VCALENDAR
