BEGIN:VCALENDAR
VERSION:2.0
PRODID:icalendar-ruby
CALSCALE:GREGORIAN
BEGIN:VEVENT
DTSTAMP:20260420T162415Z
UID:df5eecd0-256a-4522-9600-a04f51ece756
DTSTART:20260422T000000
DTEND:20260422T030000
DESCRIPTION:Adjust the Sails live in concert at The Holland Project
LOCATION:The Holland Project\, Reno\, NV\, USA
ORGANIZER:mailto:events@ampwrecked.com
SUMMARY:Adjust the Sails - Adjust the Sails at The Holland Project
END:VEVENT
END:VCALENDAR
