BEGIN:VCALENDAR
VERSION:2.0
PRODID:icalendar-ruby
CALSCALE:GREGORIAN
BEGIN:VEVENT
DTSTAMP:20260420T095803Z
UID:bf1a12d8-5808-460b-8a15-2d541b09c2f5
DTSTART:20260512T000000
DTEND:20260512T030000
DESCRIPTION:NOVELISTS live in concert at The Criterion
LOCATION:The Criterion\, Oklahoma City\, OK\, USA
ORGANIZER:mailto:events@ampwrecked.com
SUMMARY:NOVELISTS - NOVELISTS at The Criterion
END:VEVENT
END:VCALENDAR
