BEGIN:VCALENDAR
VERSION:2.0
PRODID:icalendar-ruby
CALSCALE:GREGORIAN
BEGIN:VEVENT
DTSTAMP:20260420T082605Z
UID:47c94682-7443-49f5-8c3c-30234c8a64ea
DTSTART:20260507T000000
DTEND:20260507T030000
DESCRIPTION:NOVELISTS live in concert at Bayou Music Center
LOCATION:Bayou Music Center\, Houston\, TX\, USA
ORGANIZER:mailto:events@ampwrecked.com
SUMMARY:NOVELISTS - NOVELISTS at Bayou Music Center
END:VEVENT
END:VCALENDAR
