BEGIN:VCALENDAR
VERSION:2.0
PRODID:icalendar-ruby
CALSCALE:GREGORIAN
BEGIN:VEVENT
DTSTAMP:20260420T082605Z
UID:6d502fd4-67fa-4d77-8675-2043e4e0c65b
DTSTART:20260506T000000
DTEND:20260506T030000
DESCRIPTION:NOVELISTS live in concert at South Side Ballroom
LOCATION:South Side Ballroom\, Dallas\, TX\, USA
ORGANIZER:mailto:events@ampwrecked.com
SUMMARY:NOVELISTS - NOVELISTS at South Side Ballroom
END:VEVENT
END:VCALENDAR
