BEGIN:VCALENDAR
VERSION:2.0
PRODID:icalendar-ruby
CALSCALE:GREGORIAN
BEGIN:VEVENT
DTSTAMP:20260420T082605Z
UID:57480a97-09a6-4ea3-898a-1128391686e6
DTSTART:20260505T000000
DTEND:20260505T030000
DESCRIPTION:NOVELISTS live in concert at Stubb's Waller Creek Amphitheater
LOCATION:Stubb's Waller Creek Amphitheater\, Austin\, TX\, USA
ORGANIZER:mailto:events@ampwrecked.com
SUMMARY:NOVELISTS - NOVELISTS at Stubb's Waller Creek Amphitheater
END:VEVENT
END:VCALENDAR
