BEGIN:VCALENDAR
VERSION:2.0
PRODID:icalendar-ruby
CALSCALE:GREGORIAN
BEGIN:VEVENT
DTSTAMP:20260420T121131Z
UID:0eadec12-bd95-43ec-aca2-1f79849abd4d
DTSTART:20260624T000000
DTEND:20260624T030000
DESCRIPTION:Currents live in concert at Margaret Court Arena
LOCATION:Margaret Court Arena\, Melbourne\, \, Australia
ORGANIZER:mailto:events@ampwrecked.com
SUMMARY:Currents - Currents at Margaret Court Arena
END:VEVENT
END:VCALENDAR
