BEGIN:VCALENDAR
VERSION:2.0
PRODID:icalendar-ruby
CALSCALE:GREGORIAN
BEGIN:VEVENT
DTSTAMP:20260420T114502Z
UID:4b48762d-1780-4281-aeba-97ef5a759f3a
DTSTART:20260621T000000
DTEND:20260621T030000
DESCRIPTION:Currents live in concert at Akabane ReNY alpha
LOCATION:Akabane ReNY alpha\, Tokyo\, \, Japan
ORGANIZER:mailto:events@ampwrecked.com
SUMMARY:Currents - Currents at Akabane ReNY alpha
END:VEVENT
END:VCALENDAR
